BEGIN:VCALENDAR
VERSION:2.0
PRODID:-//The Red Springs Chamber of Commerce - ECPv6.15.11//NONSGML v1.0//EN
CALSCALE:GREGORIAN
METHOD:PUBLISH
X-ORIGINAL-URL:https://chamber.tuffmarketingagency.com
X-WR-CALDESC:Events for The Red Springs Chamber of Commerce
REFRESH-INTERVAL;VALUE=DURATION:PT1H
X-Robots-Tag:noindex
X-PUBLISHED-TTL:PT1H
BEGIN:VTIMEZONE
TZID:Pacific/Easter
BEGIN:STANDARD
TZOFFSETFROM:-0500
TZOFFSETTO:-0600
TZNAME:-06
DTSTART:20240407T030000
END:STANDARD
BEGIN:DAYLIGHT
TZOFFSETFROM:-0600
TZOFFSETTO:-0500
TZNAME:-05
DTSTART:20240908T040000
END:DAYLIGHT
BEGIN:STANDARD
TZOFFSETFROM:-0500
TZOFFSETTO:-0600
TZNAME:-06
DTSTART:20250406T030000
END:STANDARD
BEGIN:DAYLIGHT
TZOFFSETFROM:-0600
TZOFFSETTO:-0500
TZNAME:-05
DTSTART:20250907T040000
END:DAYLIGHT
BEGIN:STANDARD
TZOFFSETFROM:-0500
TZOFFSETTO:-0600
TZNAME:-06
DTSTART:20260405T030000
END:STANDARD
BEGIN:DAYLIGHT
TZOFFSETFROM:-0600
TZOFFSETTO:-0500
TZNAME:-05
DTSTART:20260906T040000
END:DAYLIGHT
BEGIN:STANDARD
TZOFFSETFROM:-0500
TZOFFSETTO:-0600
TZNAME:-06
DTSTART:20270404T030000
END:STANDARD
BEGIN:DAYLIGHT
TZOFFSETFROM:-0600
TZOFFSETTO:-0500
TZNAME:-05
DTSTART:20270905T040000
END:DAYLIGHT
END:VTIMEZONE
BEGIN:VEVENT
DTSTART;TZID=Pacific/Easter:20260418T120000
DTEND;TZID=Pacific/Easter:20260418T133000
DTSTAMP:20260420T025147
CREATED:20251015T144022Z
LAST-MODIFIED:20251015T144022Z
UID:162-1776513600-1776519000@chamber.tuffmarketingagency.com
SUMMARY:Chamber Quarterly Luncheon
DESCRIPTION:Quarterly gathering with Chamber updates\, member spotlights\, and guest speakers.
URL:https://chamber.tuffmarketingagency.com/event/chamber-quarterly-luncheon/
LOCATION:Red Springs Community Center\, Red Springs Community Center\, Red Springs\, NC\, United States
END:VEVENT
BEGIN:VEVENT
DTSTART;TZID=Pacific/Easter:20260410T130000
DTEND;TZID=Pacific/Easter:20260410T160000
DTSTAMP:20260420T025147
CREATED:20251015T143812Z
LAST-MODIFIED:20251015T143812Z
UID:159-1775826000-1775836800@chamber.tuffmarketingagency.com
SUMMARY:Small Business Development Seminar
DESCRIPTION:Free workshop covering business planning\, financing\, marketing\, and legal considerations.
URL:https://chamber.tuffmarketingagency.com/event/small-business-development-seminar/
LOCATION:Red Springs Library\, Red Springs Library\, Red Springs\, NC\, United States
END:VEVENT
BEGIN:VEVENT
DTSTART;TZID=Pacific/Easter:20260322T180000
DTEND;TZID=Pacific/Easter:20260322T200000
DTSTAMP:20260420T025147
CREATED:20251015T143447Z
LAST-MODIFIED:20251015T143447Z
UID:156-1774202400-1774209600@chamber.tuffmarketingagency.com
SUMMARY:Mental Health & Wellness Workshop
DESCRIPTION:Learn practical strategies for maintaining mental wellness in the workplace.
URL:https://chamber.tuffmarketingagency.com/event/mental-health-wellness-workshop/
LOCATION:Chamber Office\, Chamber Office\, Red Springs\, NC\, United States
END:VEVENT
BEGIN:VEVENT
DTSTART;TZID=Pacific/Easter:20250915T080000
DTEND;TZID=Pacific/Easter:20250917T103000
DTSTAMP:20260420T025147
CREATED:20251015T142933Z
LAST-MODIFIED:20251015T142933Z
UID:153-1757923200-1758105000@chamber.tuffmarketingagency.com
SUMMARY:Monthly Business Networking Breakfast
DESCRIPTION:Start your month right! Join fellow business owners for coffee\, conversation\, and connections.
URL:https://chamber.tuffmarketingagency.com/event/monthly-business-networking-breakfast/
LOCATION:Red Springs Community Center\, Red Springs Community Center\, Red Springs\, NC\, United States
END:VEVENT
END:VCALENDAR